BEGIN:VCALENDAR
PRODID:-//AT Content Types//AT Event//EN
VERSION:2.0
METHOD:PUBLISH
BEGIN:VEVENT
DTSTAMP:20260420T075917Z
CREATED:20211206T082734Z
UID:ATEvent-a6a2770201644c65a7aa66f4616061ea
LAST-MODIFIED:20211206T082742Z
SUMMARY:1ères VEPRES DE L'IMMACULEE CONCEPTION
DTSTART:20211207T173000Z
DTEND:20211207T181500Z
DESCRIPTION:A 18H30 CHANTEES PAR LE CENTRE DE MUSIQUE SACREE
CLASS:PUBLIC
END:VEVENT
END:VCALENDAR
