BEGIN:VCALENDAR
PRODID:-//AT Content Types//AT Event//EN
VERSION:1.0
BEGIN:VEVENT
DTSTART:20171231T180000Z
DTEND:20171231T203000Z
DCREATED:20171222T165808Z
UID:ATEvent-7db3db8bdd4549da89a64ddff1e6433e
SEQUENCE:0
LAST-MODIFIED:20171222T165824Z
SUMMARY:Adoration et temps convivial
DESCRIPTION:19h - 21h : Adoration (animée la 1ère heure) en action d
 e grâces pour l’année écoulée\n\n21h : chocolat chaud au Rectora
 t
PRIORITY:3
TRANSP:0
END:VEVENT
END:VCALENDAR
