BEGIN:VCALENDAR
PRODID:-//AT Content Types//AT Event//EN
VERSION:1.0
BEGIN:VEVENT
DTSTART:20160730T190000Z
DTEND:20160730T200000Z
DCREATED:20160719T144028Z
UID:ATEvent-d3213d6cf71644789d8b8e9ae4bc7234
SEQUENCE:0
LAST-MODIFIED:20160719T144043Z
SUMMARY:Augustin passe aux aveux
PRIORITY:3
TRANSP:0
END:VEVENT
END:VCALENDAR
