BEGIN:VCALENDAR
PRODID:-//AT Content Types//AT Event//EN
VERSION:1.0
BEGIN:VEVENT
DTSTART:20160924T150000Z
DTEND:20160924T160000Z
DCREATED:20160922T133820Z
UID:ATEvent-3bf18be439a6443b97b7cee1a8caead4
SEQUENCE:0
LAST-MODIFIED:20160922T133914Z
SUMMARY:BÃ©nÃ©diction de la rose "JubilÃ© du Puy"
DESCRIPTION:La rose "JubilÃ© du Puy" sera bÃ©nie samedi 24 septembre Ã
   17h00 Ã  la CathÃ©drale du Puy-en Velay.\nCette rose a Ã©tÃ© crÃ©Ã©e
  par les PÃ©piniÃ¨res et Roseraies "Paul Croix" Ã  l'occasion du Jubil
 Ã© 2016.
PRIORITY:3
TRANSP:0
END:VEVENT
END:VCALENDAR
