BEGIN:VCALENDAR
PRODID:-//AT Content Types//AT Event//EN
VERSION:2.0
METHOD:PUBLISH
BEGIN:VEVENT
DTSTAMP:20260421T084135Z
CREATED:20190710T093240Z
UID:ATEvent-c8ac66fc62f941d68de04069e5496425
LAST-MODIFIED:20190710T093942Z
SUMMARY:Le Dimanche en musique - Salve Regina
DTSTART:20190804T190000Z
DTEND:20190804T200000Z
DESCRIPTION:Histoire du sanctuaire\, chœurs et mise en lumière de la
  Cathédrale par le Centre de Musique Sacrée (direction : Julien Cour
 tois)
CLASS:PUBLIC
END:VEVENT
END:VCALENDAR
