BEGIN:VCALENDAR
PRODID:-//AT Content Types//AT Event//EN
VERSION:1.0
BEGIN:VEVENT
DTSTART:20161208T190000Z
DTEND:20161208T195000Z
DCREATED:20161208T075528Z
UID:ATEvent-e0a8d09192e8404789b88dec1126dd77
SEQUENCE:0
LAST-MODIFIED:20161208T075610Z
SUMMARY:Fête de l'Immaculée Conception
PRIORITY:3
TRANSP:0
END:VEVENT
END:VCALENDAR
