BEGIN:VCALENDAR
PRODID:-//AT Content Types//AT Event//EN
VERSION:2.0
METHOD:PUBLISH
BEGIN:VEVENT
DTSTAMP:20260421T085641Z
CREATED:20160205T162507Z
UID:ATEvent-df4737a966e346b1936885f318ebcf40
LAST-MODIFIED:20160209T105839Z
SUMMARY:Messe jour de Pâque
DTSTART:20160327T083000Z
DTEND:20160327T100000Z
CLASS:PUBLIC
END:VEVENT
END:VCALENDAR
