BEGIN:VCALENDAR
PRODID:-//AT Content Types//AT Event//EN
VERSION:1.0
BEGIN:VEVENT
DTSTART:20220726T190000Z
DTEND:20220726T200000Z
DCREATED:20220717T111849Z
UID:ATEvent-381e3e481f0e45089c9718e5ec38f165
SEQUENCE:0
LAST-MODIFIED:20220717T111856Z
SUMMARY:Procession à Notre-Dame de France à la lueur des flambeaux avec la Confrérie des Pénitents Blancs
PRIORITY:3
TRANSP:0
END:VEVENT
END:VCALENDAR
