BEGIN:VCALENDAR
PRODID:-//AT Content Types//AT Event//EN
VERSION:2.0
METHOD:PUBLISH
BEGIN:VEVENT
DTSTAMP:20260422T084511Z
CREATED:20231113T181014Z
UID:ATEvent-02b26089901246dfbaed1a76517474e3
LAST-MODIFIED:20231113T181019Z
SUMMARY:Vêpres et messe commémorative
DTSTART:20231114T163000Z
DTEND:20231114T181000Z
DESCRIPTION:Joignez-vous à nous pour honorer la mémoire de Mgr Henri
  Brincard. Un moment de recueillement et de prière.
LOCATION:Cathédrale
CLASS:PUBLIC
END:VEVENT
END:VCALENDAR
