BEGIN:VCALENDAR
PRODID:-//AT Content Types//AT Event//EN
VERSION:1.0
BEGIN:VEVENT
DTSTART:20230324T190000Z
DTEND:20230324T200000Z
DCREATED:20230319T172814Z
UID:ATEvent-a3a2b8e906f74ef19668833a5cb533e0
SEQUENCE:0
LAST-MODIFIED:20230319T172820Z
SUMMARY:Vigiles de l'Annonciation
PRIORITY:3
TRANSP:0
END:VEVENT
END:VCALENDAR
