BEGIN:VCALENDAR
PRODID:-//AT Content Types//AT Event//EN
VERSION:1.0
BEGIN:VEVENT
DTSTART:20170201T163000Z
DTEND:20170201T180000Z
DCREATED:20170119T142703Z
UID:ATEvent-89d04d58083c436487912a002437f4a3
SEQUENCE:0
LAST-MODIFIED:20191024T131212Z
SUMMARY:Atelier "Répertoire"
DESCRIPTION:Propositions de chants pour le Carême\, la Semaine Sainte
  et Pâques de la commission diocésaine de musique liturgique.\nAteli
 er animé par le P. Roland BRESSON et Julien COURTOIS.
LOCATION:Saint-Didier-en-Velay
PRIORITY:3
TRANSP:0
END:VEVENT
END:VCALENDAR
