BEGIN:VCALENDAR
PRODID:-//AT Content Types//AT Event//EN
VERSION:2.0
METHOD:PUBLISH
BEGIN:VEVENT
DTSTAMP:20260420T080457Z
CREATED:20160907T093033Z
UID:ATEvent-601c8edd8fce41c99923ca5429fc6d93
LAST-MODIFIED:20191024T131611Z
SUMMARY:Messe d'installation du P. Bernard Planche\, recteur de la cathédrale
DTSTART:20160918T083000Z
DTEND:20160918T093000Z
DESCRIPTION:Messe animée par les chœurs de la cathédrale du Puy : M
 aîtrise (chœur d'enfants et jeune chœur)\, Chœurs du Centre de mus
 ique sacrée\, Chœur Cathédrale-Collège.\nOrganistes : Frédérique
  Gros & Claire Coletta
LOCATION:Cathédrale Notre-Dame du Puy
CLASS:PUBLIC
END:VEVENT
END:VCALENDAR
