BEGIN:VCALENDAR
PRODID:-//AT Content Types//AT Event//EN
VERSION:1.0
BEGIN:VEVENT
DTSTART:20191117T093000Z
DTEND:20191117T093000Z
DCREATED:20170908T074805Z
UID:ATEvent-1130ef401fe249d7bdc3241c116cdae6
SEQUENCE:0
LAST-MODIFIED:20200113T135440Z
SUMMARY:Messe pour la fête des saints évêques du Puy
DESCRIPTION:Animée par le chœur du Centre de musique sacrée du Puy.
 \nJulien COURTOIS\, direction / Frédérique GROS\, orgue
LOCATION:Cathédrale Notre-Dame du Puy
PRIORITY:3
TRANSP:0
END:VEVENT
END:VCALENDAR
