BEGIN:VCALENDAR
PRODID:-//AT Content Types//AT Event//EN
VERSION:1.0
BEGIN:VEVENT
DTSTART:20151115T093000Z
DTEND:20151115T104500Z
DCREATED:20151009T090014Z
UID:ATEvent-2b2c55b0c3b140d589f7e96454563b3a
SEQUENCE:0
LAST-MODIFIED:20191024T132106Z
SUMMARY:Messe pour la fête des Saints Evêques du Puy
DESCRIPTION:Messe pour la fête des Saints Évêques du Puy\navec la p
 articipation du chœur du Centre de musique sacrée du Puy
LOCATION:Cathédrale Notre-Dame du Puy
PRIORITY:3
TRANSP:0
END:VEVENT
END:VCALENDAR
