BEGIN:VCALENDAR
PRODID:-//AT Content Types//AT Event//EN
VERSION:2.0
METHOD:PUBLISH
BEGIN:VEVENT
DTSTAMP:20260420T080036Z
CREATED:20170719T123506Z
UID:ATEvent-78cf106858b04e66a0006e440be407da
LAST-MODIFIED:20170719T130522Z
SUMMARY:Visite poétique et musicale
DTSTART:20170719T190000Z
DTEND:20170719T200000Z
DESCRIPTION:Découvrez la Cathédrale au son de la flûte et des poèm
 es de Fenwick
CLASS:PUBLIC
END:VEVENT
END:VCALENDAR
